BEGIN:VCALENDAR
VERSION:2.0
PRODID:-//https://incuhive.co.uk///NONSGML kigkonsult.se iCalcreator 2.10.15//
METHOD:PUBLISH
BEGIN:VEVENT
UID:20260423T113824UTC-7768nT6xDC@https://incuhive.co.uk/
DTSTAMP:20260423T113824Z
DESCRIPTION:\nMake new business connections at our relaxed informal monthly
  Networking Event whilst sampling the best Charcuterie in Southampton\n\n
 \n\n \nAbout this event\n\n\n\nTo all businesses in the SO postcode area p
 lease see details below for the Southampton Central Networking group.\nOur
  in person Networking finally returns at The Fabulous OX47 in Oxford Stree
 t Southampton Serving up some of the best Charcuterie in Southampton\,\n5.
 30pm - 6.30pm Networking\nWe actively encourage member to member offers\n6
 .30pm-7.30pm food (seated buffet style) and more Networking.\nCant make it
  ?. Then why not spread the word \,and invite some of your clients/prospec
 ts and business associates.\nTickets are limited for this event and unfort
 unately we are unable to accommodate any walk ins so you must book in adva
 nce.\nTicket cost includes a drink at the bar and food buffet style. ( veg
 etarian and vegan options are also available) Please message us if you hav
 e any special dietary requirements\nWe cant wait to see some old and new f
 aces so get you places booked early!\nMake sure to sign up on the followin
 g link Eventbrite Southampton Central Networking Group\nSee you there!\n\n
 \n\n https://incuhive.co.uk/upcoming-events-2/event/243-southampton-centra
 l-networking-club
DTSTART:20220627T163000Z
DTEND:20220627T183000Z
LOCATION:OX47  47 Oxford street  Southampton  SO143DP (47 Oxford St\, South
 ampton SO14 3DP\, UK)
SUMMARY:Southampton Central Networking Club
URL:https://incuhive.co.uk/upcoming-events-2/event/243-southampton-central-
 networking-club
END:VEVENT
END:VCALENDAR
