BEGIN:VCALENDAR
VERSION:2.0
PRODID:-//https://incuhive.co.uk///NONSGML kigkonsult.se iCalcreator 2.10.15//
METHOD:PUBLISH
BEGIN:VEVENT
UID:20260424T091815UTC-8789H57oTr@https://incuhive.co.uk/
DTSTAMP:20260424T091815Z
DESCRIPTION:We are very excited to announce that we will be hosting a scree
 ning event at Gambledown Farm on 5 March 2025\, where we will share the re
 sults of our Test Valley Borough Council Pilot Demonstrator.Back in July 2
 024\, two farms were awarded a grant of almost £25\,000 by TVBC.Since then
  MICHELMERSH MANOR FARM LIMITED and Goddards Farm near Andover have been l
 eading the way in adopting and showcasing practices that reduce environmen
 tal impacts and help contribute to our collective goal of achieving Net Ze
 ro operations in Test Valley.IncuHive and Test Valley Borough Council have
  been closely following the progress of Michelmersh Manor Farm and Goddard
 s Farm throughout the process. The results of these projects have been com
 prehensively assessed and we cannot wait to share the results with you. ht
 tps://incuhive.co.uk/upcoming-events-2/event/323-growing-the-future-discov
 er-innovative-farming-for-a-sustainable-tomorrow
DTSTART:20250305T113000Z
DTEND:20250305T140000Z
LOCATION:Gambledown Farm (Gambledown Farm\, Sherfield English\, Romsey\, SO
 51 6JU)
SUMMARY:Growing the future - Discover Innovative Farming for a Sustainable 
 Tomorrow
URL:https://incuhive.co.uk/upcoming-events-2/event/323-growing-the-future-d
 iscover-innovative-farming-for-a-sustainable-tomorrow
END:VEVENT
END:VCALENDAR
