BEGIN:VCALENDAR
VERSION:2.0
PRODID:-//https://incuhive.co.uk///NONSGML kigkonsult.se iCalcreator 2.10.15//
METHOD:PUBLISH
BEGIN:VEVENT
UID:20260424T093615UTC-8079WWdVif@https://incuhive.co.uk/
DTSTAMP:20260424T093615Z
DESCRIPTION:Join us for an insightful workshop exploring how businesses are
  navigating the path to Net Zero. This session will spotlight real-world e
 xperiences from three businesses of different sizes\, offering practical i
 nsights into their challenges\, strategies\, and successes in reducing the
 ir carbon footprint. With a special emphasis on the unique journey of smal
 l businesses\, this workshop provides an invaluable opportunity to learn d
 irectly from peers who have embraced sustainability.\nThrough inspiring ca
 se studies and interactive discussions\, we’ll explore:\n\nThe practical s
 teps businesses are taking to achieve Net Zero.\nThe challenges they faced
  and the innovative solutions they implemented.\nHow businesses of any siz
 e can begin or accelerate their sustainability journey.\n\nWhether you’re 
 a small business owner\, a sustainability professional\, or simply interes
 ted in supporting greener practices\, this workshop is designed to provide
  actionable takeaways and encourage collaboration. Don't miss this chance 
 to gain practical knowledge and connect with others who are committed to a
  sustainable future. https://incuhive.co.uk/upcoming-events-2/event/324-ne
 t-zero-business-support-real-businesses-and-their-experiences-with-net-zer
 o
DTSTART:20250313T100000Z
DTEND:20250313T111500Z
LOCATION:Online Zoom Webinar ()
SUMMARY:Net Zero Business Support - Real businesses and their experiences w
 ith Net Zero
URL:https://incuhive.co.uk/upcoming-events-2/event/324-net-zero-business-su
 pport-real-businesses-and-their-experiences-with-net-zero
END:VEVENT
END:VCALENDAR
