BEGIN:VCALENDAR
VERSION:2.0
PRODID:-//https://incuhive.co.uk///NONSGML kigkonsult.se iCalcreator 2.10.15//
METHOD:PUBLISH
BEGIN:VEVENT
UID:20260421T084601UTC-21114VBHiu@https://incuhive.co.uk/
DTSTAMP:20260421T084601Z
DESCRIPTION: \nThe Zoom link for the webinar will be sent to you via email 
 prior to the event https://incuhive.co.uk/upcoming-events-2/event/346-basi
 ngstoke-business-growth-factory-webinar-marketing-fundamentals
DTSTART:20251117T130000Z
DTEND:20251117T140000Z
LOCATION:Online Zoom Webinar ()
SUMMARY:Basingstoke Business Growth Factory Webinar - Marketing Fundamental
 s
URL:https://incuhive.co.uk/upcoming-events-2/event/346-basingstoke-business
 -growth-factory-webinar-marketing-fundamentals
END:VEVENT
END:VCALENDAR
